BEGIN:VCALENDAR
VERSION:2.0
BEGIN:VEVENT
URL:https://byzons.com/index.php/events/viewevent/6-ha-p-kha-n?groupid=1 
DTSTART:20200603T000000
DTEND:20200603T001500
SUMMARY:họp khẩn
DESCRIPTION:
LOCATION:16 street
END:VEVENT
END:VCALENDAR