BEGIN:VCALENDAR
VERSION:2.0
BEGIN:VEVENT
URL:https://byzons.com/index.php/events/viewevent/7-khai-tr-ng?pageid=2 
DTSTART:20200604T000000
DTEND:20200604T001500
SUMMARY:khai trương
DESCRIPTION:
LOCATION:16 street
END:VEVENT
END:VCALENDAR